BEGIN:VCALENDAR
VERSION:2.0
CALSCALE:GREGORIAN
PRODID:-//MyApp//Calendar 1.0//EN
BEGIN:VEVENT
METHOD:PUBLISH
UID:22459@regionalniportaly.cz
DTSTAMP:20260421T055501Z
DTSTART;VALUE=DATE:20191117
DTEND;VALUE=DATE:20191118
SUMMARY:Oslava 17. listopadu ve Velkém Meziříčí
DESCRIPTION:Srdečně Vás zdravím a dovoluji si Vás pozvat jménem Společně VM na oslavy výročí 17. listopadu ve Velkém Meziříčí. U příležitosti tohoto významného dne bude na Náměstí instalován objekt Miroslava Štěpánka\, ke kterému budou po proslovech následně položeny květiny. Už v 15 hodin začne v bývalém luteránském gymnáziu přednáška Adama Drdy\, scénáristy\, novináře a dokumentaristy\, Česká paměť a komunismus\, doplněná o filmové promítání. O půl páté se účastníci oslav setkají u gymnázia a pochod svobody a demokracie vyrazí na Náměstí\, kde proběhne hlavní vzpomínková akce.
LOCATION:Velké Meziříčí
END:VEVENT
END:VCALENDAR