BEGIN:VCALENDAR
VERSION:2.0
CALSCALE:GREGORIAN
PRODID:-//MyApp//Calendar 1.0//EN
BEGIN:VEVENT
METHOD:PUBLISH
UID:32218@regionalniportaly.cz
DTSTAMP:20260421T172654Z
DTSTART;VALUE=DATE:20230421
DTEND;VALUE=DATE:20230422
SUMMARY:POETIKA / Velké Meziříčí / Panorama
DESCRIPTION:POETIKA odstartovala novou etapu v novém obsazení.Na koncertu budete mít možnost slyšet naživo nový singl Půlnoc\, ale i další novinky.Nebudou chybět ani ty starší hity kapely jako Zkouším žít\, Múza\, Každou vteřinou.OTEVÍRÁME VE 20:00KONCERT VE 22:00Afterparty až do ránaPOETIKA je hudební skupina\, která v roce 2016 vystřelila svým debutovým singlem Zkouším žít mezi nejhranější interprety toho roku. Na úspěch prvního hitu navázala kapela písní Každou vteřinou a prvním albem Trinity (2017). Za zmíněný rok byla Poetika nominována na objev roku v anketě Český slavík.V roce 2018 odjela vyprodanou tour s kapelou Mirai a poté další s rapperem Lipo.Rok 2019 skupina odstartovala svou první sólovou tour a v roce 2022 jí vyšlo v pořadí druhé album s názvem Identity.NA CO SE MŮŽETE TĚŠIT??Kapela POETIKAO afterpárty se postará DJ SlávaTočené pivoAkční ceny na baruPártyfotografTěšíme se na Vás Music club Panorama &amp\; POETIKA !!!
LOCATION:Velké Meziříčí
END:VEVENT
END:VCALENDAR