BEGIN:VCALENDAR
VERSION:2.0
CALSCALE:GREGORIAN
PRODID:-//MyApp//Calendar 1.0//EN
BEGIN:VEVENT
METHOD:PUBLISH
UID:32997@regionalniportaly.cz
DTSTAMP:20260421T172417Z
DTSTART;VALUE=DATE:20230521
DTEND;VALUE=DATE:20230522
SUMMARY:Kino I Život pro samouky
DESCRIPTION:21. května 2023 18:30\, kino JC\, Náměstí 17\, Velké MeziříčíVstupné: 140 Kč • 90 minut • nevhodné pro děti do 12 let\nHrají: J. Plodková\, V. Neužil ml\, J. Plesl\, D. Švehlík\, Z. Kronerová a další. Komedie Česko 2023.\n \nHlavní postava Klára umí být ve čtyřiceti pořád stejně nejistá a zmatená jako v osmnácti\, jenom už to nevypadá tak roztomile. Její manželství ze dne na den skončí a ona se znovu ocitne v nepředvídatelném světě randění a seznamovacích trapasů. Do toho vychovává dvě dcery\, snaží se přežít životní styl své excentrické mámy a navíc jí začne radit úžasná vztahová koučka a influencerka. Do téhle chvíle měla svůj život celkem naplánovaný\, ale teď se z ní stal samouk. 
LOCATION:Velké Meziříčí
END:VEVENT
END:VCALENDAR