BEGIN:VCALENDAR
VERSION:2.0
CALSCALE:GREGORIAN
PRODID:-//MyApp//Calendar 1.0//EN
BEGIN:VEVENT
METHOD:PUBLISH
UID:33010@regionalniportaly.cz
DTSTAMP:20260421T155044Z
DTSTART;VALUE=DATE:20230607
DTEND;VALUE=DATE:20230608
SUMMARY:CONCENTUS MORAVIAE - Kateřina Maňáková & Barbara Maria Willi & Vojtěch Jakl
DESCRIPTION:7. června 2023 19:30\, kostel sv. Kříže (Špitálek)\, Náměstí 17\, Velké Meziříčív rámci XXVIII. ročníku mezinárodního hudebního festivalu CONCENTUS MORAVIAE\, téma: MEZI KROMĚŘÍŽÍ A VÍDNÍKATEŘINA MAŇÁKOVÁ &amp\; BARBARA M. WILLI &amp\; VOJTĚCH JAKL\nVojtěch Jakl / barokní housle\,  Kateřina Maňáková / teorba\, Barbara Maria Willi / varhanní pozitiv\nProgram:Heinrich Döbel: Sonata A dur (I.)Giovanni Girolamo Kapsberger: Tocatta settimaHeinrich Ignaz Franz Biber: Sonata VIII in G durJohann Heinrich Schmelzer: Suite D dur „La Galline“ (scordatura A\, E\, a\, d)Bellerofonte Castaldi: Un Bocconcino di FantasíaHeinrich Döbel: Sonata e moll (II.)Heinrich Ignaz Franz Biber: Sonata III in F dur\nVídeňské houslové sny:Vojtěch Jakl a Kateřina Maňáková jsou nové hvězdy na nebi historické interpretace\, které vystudovaly JAMU v Brně a úspěšně se vydaly do světa: Vojtěch na Schola Cantorum Basiliensis a Kateřina na Královskou konzervatoř v Den Haagu. Ve triu s Barbarou Marií Willi se vrhnou do dobrodružné jízdy napříč virtuózními a úžas budícími skladbami houslového nebe klenoucího se koncem 17. a začátkem 18. století nad Moravou a Vídní. Nemůže scházet zářivý impulz ze slunečné Itálie\, která byla vzorem hudebního dění i v našich krajinách.\nVstupné: 250 Kč/150 Kč. Prodej vstupenek na programovém oddělení Jupiter clubu nebo v síti Ticketportal. 200 Kč/150 Kč zvýhodněná cena vstupenek do 29. května 2022.
LOCATION:Velké Meziříčí
END:VEVENT
END:VCALENDAR