BEGIN:VCALENDAR
VERSION:2.0
CALSCALE:GREGORIAN
PRODID:-//MyApp//Calendar 1.0//EN
BEGIN:VEVENT
METHOD:PUBLISH
UID:34789@regionalniportaly.cz
DTSTAMP:20260421T172734Z
DTSTART;VALUE=DATE:20231124
DTEND;VALUE=DATE:20231125
SUMMARY:Totally Nothin / Velké Meziříčí
DESCRIPTION:TOTALLY NOTHIN na Panoramě&nbsp\;OTEVÍRÁME VE 21:00KONCERT VE 23:00AFTERPÁRTY AŽ DO RÁNATOTALLY NOTHIN\, jedna z nejvýraznějších osobností GEN Z na české rapové scéně\, který se žánrově pohybuje na pomezí rapu\, punk-rapu a nově také DnB\, se po vydání posledního alba Noční Můry (2022) a nového EP MY2 (2023) míří poprvé k nám.NA CO SE MŮŽETE TĚŠIT??TOTALLY NOTHINO afterpárty se postará DJ SlávaTočené pivoAkční ceny na baruPártyfotografTěšíme se na Vás !!
LOCATION:Velké Meziříčí
END:VEVENT
END:VCALENDAR