BEGIN:VCALENDAR
VERSION:2.0
CALSCALE:GREGORIAN
PRODID:-//MyApp//Calendar 1.0//EN
BEGIN:VEVENT
METHOD:PUBLISH
UID:35202@regionalniportaly.cz
DTSTAMP:20260421T190408Z
DTSTART;VALUE=DATE:20231103
DTEND;VALUE=DATE:20231105
SUMMARY:Festival Radoslav I.
DESCRIPTION:První ročník divadelního festivalu komedie v Kulturním domě Radostín nad Oslavou!Od pátku do neděle budete mít možnost zhlédnout rovnou čtyři autorské komedie a následně si u skleničky poklábosit s jejich tvůrci.Odpojte na chvíli mladistvým wifinu\, babičkám zazimujte motyčku a přijďte si všichni odpočinout od pracovního koloběhu!
LOCATION:Radostín nad Oslavou
END:VEVENT
END:VCALENDAR