BEGIN:VCALENDAR
VERSION:2.0
CALSCALE:GREGORIAN
PRODID:-//MyApp//Calendar 1.0//EN
BEGIN:VEVENT
METHOD:PUBLISH
UID:35533@regionalniportaly.cz
DTSTAMP:20260421T183851Z
DTSTART;VALUE=DATE:20231229
DTEND;VALUE=DATE:20231230
SUMMARY:Lucy & HangOver - koncert velký jako Meziříčí
DESCRIPTION:Kapela Lucy &amp\; HangOver&nbsp\;vystupuje z komfortní zóny párty kapely a vstupuje do zcela nové éry&nbsp\;s vlastní autorskou&nbsp\;hudbou v oblasti pop &amp\; moderní country.&nbsp\;Pomyslný přechod z lokálního zábavového tria na profesionální pětičlennou kapelu stvrdí koncertem Velkým jako Meziříčí.lucyhangover.comHangOver&nbsp\;byla původně trojice pohledných mužských\, která zahrála akusticky jakýkoliv hit. V roce 2022 se potkali s Lucy\, když se chtěli dozvědět více o získání práce v zahraničí na zaoceánských lodích. Slovo dalo slovo\, několikrát si spolu zahráli jen tak pro radost a pak všem došlo\, že tohle těleso musí fungovat společně\, protože to má prostě grády!Společně vystupují jako Lucy &amp\; HangOver od roku 2023. Mají cíl předávat lidem radost a neskutečnou energii. Každý člen si prošel řadou kapel a účinkoval ve spoustě projektů v ČR i zahraničí\, které jsou uznávané a velice úspěšné..
LOCATION:Velké Meziříčí
END:VEVENT
END:VCALENDAR