BEGIN:VCALENDAR
VERSION:2.0
CALSCALE:GREGORIAN
PRODID:-//MyApp//Calendar 1.0//EN
BEGIN:VEVENT
METHOD:PUBLISH
UID:37175@regionalniportaly.cz
DTSTAMP:20260421T184154Z
DTSTART;VALUE=DATE:20240202
DTEND;VALUE=DATE:20240203
SUMMARY:Pokáčovo Jaro 2024
DESCRIPTION:Pokáčovo jaro 2024
LOCATION:Velké Meziříčí
END:VEVENT
END:VCALENDAR