BEGIN:VCALENDAR
VERSION:2.0
CALSCALE:GREGORIAN
PRODID:-//MyApp//Calendar 1.0//EN
BEGIN:VEVENT
METHOD:PUBLISH
UID:38574@regionalniportaly.cz
DTSTAMP:20260421T172518Z
DTSTART;VALUE=DATE:20240413
DTEND;VALUE=DATE:20240414
SUMMARY:Grande Moravia - Tenkrát na západě
DESCRIPTION:Jarní turné 2024 znamenitého orcherstru GRANDE MORAVIA Ladislava Pavluše\, který přiveze do Velkého Meziříčí dokonale vybroušený program nejlákavější FILMOVÝCH MELODIÍ ENNIA MORRICONEHO. Celkový dojem z tohoto velmi oblíbeného koncertu je navíc umocněn kouzelnými tón cimbálu a videoprojekcí. Podrobnější informace a vstupenky na www.grandemoravia.cz
LOCATION:Velké Meziříčí
END:VEVENT
END:VCALENDAR