BEGIN:VCALENDAR
VERSION:2.0
CALSCALE:GREGORIAN
PRODID:-//MyApp//Calendar 1.0//EN
BEGIN:VEVENT
METHOD:PUBLISH
UID:38805@regionalniportaly.cz
DTSTAMP:20260421T172613Z
DTSTART;VALUE=DATE:20240217
DTEND;VALUE=DATE:20240218
SUMMARY:Sportovní ples Velká Bíteš
DESCRIPTION:Těšíme se na Vás. Bohatá tombola. Koktejl bar. Víno z Lechovic u CM Grajcar. Mezi hosty herci David Suchařípa\, Bára Štěpánová a Václav Svoboda. Navíc zazpívá i Petr Bende 💃🏿🎼🥂
LOCATION:Velká Bíteš
END:VEVENT
END:VCALENDAR