BEGIN:VCALENDAR
VERSION:2.0
CALSCALE:GREGORIAN
PRODID:-//MyApp//Calendar 1.0//EN
BEGIN:VEVENT
METHOD:PUBLISH
UID:39281@regionalniportaly.cz
DTSTAMP:20260421T172435Z
DTSTART;VALUE=DATE:20240405
DTEND;VALUE=DATE:20240406
SUMMARY:Jaksi Taksi / zakázanÝovoce / Covers for Lovers
DESCRIPTION:Společný koncert pop-punk-rockových kapel.Jaro 2024 bude ve znamení punk-rockové jízdy kapel zakázanÝovoce\, Jaksi Taksi a Covers for Lovers. Tyto tři stálice české punk-rockové scény rozezní ušní bubínky v sedmi městech\, kam v rámci No time for a long tour 2024 na jaře dorazí. Fanoušci se mohou těšit na hity\, ale i novinky\, které kapely připravují.
LOCATION:Velké Meziříčí
END:VEVENT
END:VCALENDAR