BEGIN:VCALENDAR
VERSION:2.0
CALSCALE:GREGORIAN
PRODID:-//MyApp//Calendar 1.0//EN
BEGIN:VEVENT
METHOD:PUBLISH
UID:43309@regionalniportaly.cz
DTSTAMP:20260421T172458Z
DTSTART;VALUE=DATE:20240629
DTEND;VALUE=DATE:20240630
SUMMARY:Pohádková stezka / Velké Meziříčí
DESCRIPTION:Pohádková stezka míří do Velkého Meziříčí!Potkáte všechny nejoblíbenější pohádkové postavičky.&nbsp\;&nbsp\;Na trase můžete potkat kamarády z Tlapkové patroly\, Mimoně\, Šmouly\, Mickeho Mouse a další.&nbsp\;Nenechte si ujít tento jedinečný pohádkový zážitek s Vašimi dětmi.Na konci na Vás bude čekat velká truhla s poklademČas: na Vaší zakoupené vstupence je čas Vašeho startuDen: 29.6.2024Místo: stezka u letního koupaliště Palouky🏳 Start: https://mapy.cz/s/mefofacafoStartovné:&nbsp\;Vstupenka - 150 Kč&nbsp\;Každý účastník musí mít svou vlastní vstupenku - &nbsp\;cena vstupenek je shodná pro&nbsp\;děti&nbsp\;i&nbsp\;dospělé.(Zdarma - děti do 24 měsíců\, ZTP\, ZTP/P)Při příchodu se prosím zaregistrujte ve stánku.&nbsp\;
LOCATION:Velké Meziříčí
END:VEVENT
END:VCALENDAR