BEGIN:VCALENDAR
VERSION:2.0
CALSCALE:GREGORIAN
PRODID:-//MyApp//Calendar 1.0//EN
BEGIN:VEVENT
METHOD:PUBLISH
UID:44020@regionalniportaly.cz
DTSTAMP:20260422T011300Z
DTSTART;VALUE=DATE:20241117
DTEND;VALUE=DATE:20241118
SUMMARY:Jen pravdu\, drahý
DESCRIPTION:
LOCATION:Velké Meziříčí
END:VEVENT
END:VCALENDAR