BEGIN:VCALENDAR
VERSION:2.0
CALSCALE:GREGORIAN
PRODID:-//MyApp//Calendar 1.0//EN
BEGIN:VEVENT
METHOD:PUBLISH
UID:44022@regionalniportaly.cz
DTSTAMP:20260421T153802Z
DTSTART;VALUE=DATE:20241122
DTEND;VALUE=DATE:20241123
SUMMARY:Ivan Mládek Banjo Band
DESCRIPTION:
LOCATION:Velké Meziříčí
END:VEVENT
END:VCALENDAR