BEGIN:VCALENDAR
VERSION:2.0
CALSCALE:GREGORIAN
PRODID:-//MyApp//Calendar 1.0//EN
BEGIN:VEVENT
METHOD:PUBLISH
UID:47704@regionalniportaly.cz
DTSTAMP:20260421T155122Z
DTSTART;VALUE=DATE:20241108
DTEND;VALUE=DATE:20241109
SUMMARY:Fernetman Tour - V.V.Ú.\, ZPUTNIK\, STARTi - club Panorama
DESCRIPTION:STARTi z okolí Velkého Meziříčí vydávají první desku a k této příležitosti proběhne křest alba s vystoupením hostů ZPUTNIK a V.V.Ú.
LOCATION:Velké Meziříčí
END:VEVENT
END:VCALENDAR