BEGIN:VCALENDAR
VERSION:2.0
CALSCALE:GREGORIAN
PRODID:-//MyApp//Calendar 1.0//EN
BEGIN:VEVENT
METHOD:PUBLISH
UID:48049@regionalniportaly.cz
DTSTAMP:20260421T153730Z
DTSTART;VALUE=DATE:20241129
DTEND;VALUE=DATE:20241130
SUMMARY:JAMARON / Forever Tour 2024
DESCRIPTION:Pětičlenná rocková skupina Jamaron v čele s charismatickou frontwoman Marií Dostálovou pokračuje v úspěšném koncertování napříč celou republikou!   Na "Forever Tour" ve Velkém Meziříčí zazní osvědčené skladby i nové singly s vysokou dávkou energie a ještě ostřejším zvukem\, než kdy dřív.
LOCATION:Velké Meziříčí
END:VEVENT
END:VCALENDAR