BEGIN:VCALENDAR
VERSION:2.0
CALSCALE:GREGORIAN
PRODID:-//MyApp//Calendar 1.0//EN
BEGIN:VEVENT
METHOD:PUBLISH
UID:48050@regionalniportaly.cz
DTSTAMP:20260421T201833Z
DTSTART;VALUE=DATE:20241206
DTEND;VALUE=DATE:20241207
SUMMARY:HIGHLAND (výroční koncert)
DESCRIPTION: HIGHLAND  ▬▬▬▬▬▬▬▬▬▬▬▬▬▬▬▬▬▬▬▬▬Před dvěma lety jsme takřka ze dne na den založili kapelu a pojmenovali ji po našem kraji Highland (Vysočina). Od té doby jsme odehráli přes 100 koncertů po celé republice a 6.12.2024 ty dva roky oslavíme koncertem u nás na Vysočině. Letos už jsme jednou ve Velmezu hráli (Muzikanti dětem) a bylo to nezapomenutelný.  Tentokrát se chystáme na kopec do klubu a věříme\, že to bude podobný jako v květnu!  Doraž za námi první pátek v prosinci na Panoramu! ▬▬▬▬▬▬▬▬▬▬▬▬▬▬▬▬▬▬▬▬▬SUPPORT: LEONAFTERPÁRTY: DJ ERNY
LOCATION:Velké Meziříčí
END:VEVENT
END:VCALENDAR