BEGIN:VCALENDAR
VERSION:2.0
CALSCALE:GREGORIAN
PRODID:-//MyApp//Calendar 1.0//EN
BEGIN:VEVENT
METHOD:PUBLISH
UID:48778@regionalniportaly.cz
DTSTAMP:20260421T190359Z
DTSTART;VALUE=DATE:20250428
DTEND;VALUE=DATE:20250429
SUMMARY:DUO JAMAHA Velké Meziříčí
DESCRIPTION:DUO JAMAHA - ŽIJE TO TOUR 2025!Nový koncertní program\, nové turné\, nová koncertní šou plná melodických\, rytmických skladeb od oblíbeného DUO JAMAHA! V programu zazní nové autorské skladby z nového CD - ŽIJE TO!Po úspěšném turné ROZTOČÍME TO!\, které vidělo na Slovensku a v Čechách tisíce lidí a získalo zlatou desku\, přichází další nové turné s novými písněmi. Nebudou chybět známé hity\, které znáte z televize a rádií. Vše bude doplněné záhoráckým humorem a Stand Up vystoupením\, který zaručí skvělou zábavu a odreagovaní pro všechny generace!
LOCATION:Velké Meziříčí
END:VEVENT
END:VCALENDAR