BEGIN:VCALENDAR
VERSION:2.0
CALSCALE:GREGORIAN
PRODID:-//MyApp//Calendar 1.0//EN
BEGIN:VEVENT
METHOD:PUBLISH
UID:49479@regionalniportaly.cz
DTSTAMP:20260421T172746Z
DTSTART;VALUE=DATE:20250415
DTEND;VALUE=DATE:20250416
SUMMARY:Hudba Harryho Pottera při svíčkách
DESCRIPTION:Nenechte si ujít večer plný magické hudby\, kde zazní ty nejznámější melodie a písně ze všech filmů Harryho Pottera. Světlo stovky svíček vytvoří nezapomenutelnou atmosféru koncertu.Program v jedinečném klavírním provedení představuje výběr filmových skladeb od pětinásobného oscarového skladatele Johna Williamse společně s díly Patricka Doyla\, Nicolase Hoopera a Alexandra Desplata\, držitele Oscara\, a nabízí to nejlepší z hudby Harryho Pottera.Tento magický koncert nabídne víc než jen hudbu\; stovky svíček rozzáří prostor a přidají na tajemné atmosféře plné mystiky a kouzel.Můžete se těšit na známé melodie a písně z filmů Harryho Pottera\, upravené pro klavírní koncert a to v podání přední&nbsp\;české&nbsp\;klavíristky Lucie Kubátové.V rámci Evropské tour alternují také: František Panáček a Alexandr Starý.&nbsp\;Celé představení si můžete naplno vychutnat\, díky korunnímu klenotu mezi koncertními klavíry C. Bechstein B212.Tímto děkujeme našemu partnerovi C. Bechstein – www.bechstein.com za podporu akce.
LOCATION:Velké Meziříčí
END:VEVENT
END:VCALENDAR