BEGIN:VCALENDAR
VERSION:2.0
CALSCALE:GREGORIAN
PRODID:-//MyApp//Calendar 1.0//EN
BEGIN:VEVENT
METHOD:PUBLISH
UID:49645@regionalniportaly.cz
DTSTAMP:20260421T170407Z
DTSTART;VALUE=DATE:20241229
DTEND;VALUE=DATE:20241230
SUMMARY:koncert LUCY & HANGOVER
DESCRIPTION:
LOCATION:Velké Meziříčí
END:VEVENT
END:VCALENDAR