BEGIN:VCALENDAR
VERSION:2.0
CALSCALE:GREGORIAN
PRODID:-//MyApp//Calendar 1.0//EN
BEGIN:VEVENT
METHOD:PUBLISH
UID:50021@regionalniportaly.cz
DTSTAMP:20260421T184057Z
DTSTART;VALUE=DATE:20250113
DTEND;VALUE=DATE:20250114
SUMMARY:Divadlo: Nohy vzhůru
DESCRIPTION:Bláznivá komedie s kriminální zápletkou. Mandy a Tania\, dvě krásné tanečnice z nočního klubu v Soho\, se dostaly do svízelné situace. Co se stane\, až se nesmlouvavý majitel klubu Velký Mack dozví\, že Mandy má aférku s Gerrym a Tania zase s Terrym a pošle na ně své kumpány? A co se stane\, až se dozví\, že nejde jenom o aférky jeho tanečnic\, ale také o velké penize?\nHrají: Martin Zounar\, Martin Kraus\, Jiří Štrébl / Denny Ratajský\, Robert Hájek\, Markéta Procházková\, Kateřina Pechová
LOCATION:Velké Meziříčí
END:VEVENT
END:VCALENDAR