BEGIN:VCALENDAR
VERSION:2.0
CALSCALE:GREGORIAN
PRODID:-//MyApp//Calendar 1.0//EN
BEGIN:VEVENT
METHOD:PUBLISH
UID:52610@regionalniportaly.cz
DTSTAMP:20260421T185649Z
DTSTART;VALUE=DATE:20250404
DTEND;VALUE=DATE:20250405
SUMMARY:Tomáš Klus & cílová skupina - Tady to máš tour
DESCRIPTION:
LOCATION:Velké Meziříčí
END:VEVENT
END:VCALENDAR