BEGIN:VCALENDAR
VERSION:2.0
CALSCALE:GREGORIAN
PRODID:-//MyApp//Calendar 1.0//EN
BEGIN:VEVENT
METHOD:PUBLISH
UID:54988@regionalniportaly.cz
DTSTAMP:20260421T190531Z
DTSTART;VALUE=DATE:20251001
DTEND;VALUE=DATE:20251002
SUMMARY:Muzikály Josefa Vojtka ve Velkém Meziříčí
DESCRIPTION:Josef Vojtek slaví 30 let na muzikálové scéněa při této příležitosti oznamuje svou první sólovou&nbsp\; tour s názvem&nbsp\;„MUZIKÁLY JOSEFA VOJTKA&nbsp\;– Tak trochu rockově“Nenechte si ujít jedinečnou možnost zažít vystoupení jednoho z nejvýraznějších hlasů české rockové a muzikálové scény. Za doprovodu známé&nbsp\;kapely Charlie Band&nbsp\;zazní&nbsp\; písně z muzikálů ve kterých Josef Vojtek učinkoval. Tři Mušketýři\, Angelika\, Kleopatra\, Hamlet\, Dracula\, a mnoho dalších. Připravte se na velkolepý zážitek\, kde se srdce rockera potká s vášní pro muzikály.&nbsp\;
LOCATION:Velké Meziříčí
END:VEVENT
END:VCALENDAR