BEGIN:VCALENDAR
VERSION:2.0
CALSCALE:GREGORIAN
PRODID:-//MyApp//Calendar 1.0//EN
BEGIN:VEVENT
METHOD:PUBLISH
UID:56556@regionalniportaly.cz
DTSTAMP:20260421T172643Z
DTSTART;VALUE=DATE:20250815
DTEND;VALUE=DATE:20250817
SUMMARY:Festival Bezmez 2025
DESCRIPTION:8. ročník festivalu BEZMEZհհʍʍʍ ѵůղě քříɾօժվ ą մʍěղíVesnická Coachella aka Maloměstský Čarodějáles aka FESTIVAL BYZNYS aka FESTIVAL BEZMEZ vás i v letošním roce přivítá ve své vřelé náruči. Desítky kvalitních umělců a pak DJs.Stay tuned big things coming ∂ůℓєžιтé updates SOON!&nbsp\;15.-17. 8. 2025&nbsp\;C_e_n_y_ _n_í_z_k_é_ _k_v_a_l_i_t_a_ _v_y_s_o_k_áD_e_s_í_t_k_y_ _k_v_a_l_i_t_n_í_c_h_ _u_m_ě_l_c_ů_ _a_ _p_a_k__D_J_sk_d_o_ _n_i_c_ _n_e_z_k_u_s_í_ _n_i_c_ _n_e_z_a_ž_i_j_ečau a jedem
LOCATION:Velké Meziříčí
END:VEVENT
END:VCALENDAR