BEGIN:VCALENDAR
VERSION:2.0
CALSCALE:GREGORIAN
PRODID:-//MyApp//Calendar 1.0//EN
BEGIN:VEVENT
METHOD:PUBLISH
UID:56603@regionalniportaly.cz
DTSTAMP:20260421T210905Z
DTSTART;VALUE=DATE:20250926
DTEND;VALUE=DATE:20250927
SUMMARY:James Cole & Idea / Velké Meziříčí
DESCRIPTION:JAMES COLE A IDEA JSOU DONE&nbsp\;_______________________________Oba dlouhodobě patří k nejvýraznějším postavám české rapové scény. Přesto jejich společnou desku čekal málokdo. Na dobré věci je zkrátka třeba si počkat! James Cole a Idea vydávají album Done! Deska je protknutá hlubokou osobní zpovědí James Colea\, kde místo řetězů přichází ke slovu rodina a střízlivost.A my máme radost\, že Vám je můžeme přivést k nám do klubu. Bude to jediná zastávka na Vysočině\, tak že si to nenech ujít !!! 1/2 legendárních Supercroo a šéf Ty Nikdy Labelu na jednom pódiu. Zazní určitě i nesmrtelné hity. Idea pustí dj set před koncertem a to není vše. Startovací kola roztočí velký hiphopový nadšenec YaKnow?Check! Supportovat bude místní nováček MMAREK\, který představí své debutové album. Krýt zádá mu bude NAMTRECK což je DNA klubové scény ve Velkém Meziříčí. O Afterpárty se postará Pytri._______________________________Vystupující :JAMES COLE A IDEAMMAREK A NAMTRECKYAKNOWCHECKPYTRI
LOCATION:Velké Meziříčí
END:VEVENT
END:VCALENDAR