BEGIN:VCALENDAR
VERSION:2.0
CALSCALE:GREGORIAN
PRODID:-//MyApp//Calendar 1.0//EN
BEGIN:VEVENT
METHOD:PUBLISH
UID:56854@regionalniportaly.cz
DTSTAMP:20260421T174900Z
DTSTART;VALUE=DATE:20251031
DTEND;VALUE=DATE:20251102
SUMMARY:Festival Radoslav III.
DESCRIPTION:Po roce se do kulturního domu v Radostíně nad Oslavou vrací festival komedie Radoslav III. A tak jako každý rok - až se dny zkrátí a zahrádka bude sklizená\, zazimujte motyčky\, vypněte WiFi a přijďte si s námi užít několik divadelních představení!I letos se máte na co těšit\, program níže!
LOCATION:Radostín nad Oslavou
END:VEVENT
END:VCALENDAR