BEGIN:VCALENDAR
VERSION:2.0
CALSCALE:GREGORIAN
PRODID:-//MyApp//Calendar 1.0//EN
BEGIN:VEVENT
METHOD:PUBLISH
UID:56904@regionalniportaly.cz
DTSTAMP:20260421T155250Z
DTSTART;VALUE=DATE:20251217
DTEND;VALUE=DATE:20251218
SUMMARY:KOUZLO VÁNOC - Grande Moravia Ladislava Pavluše
DESCRIPTION:KOUZLO VÁNOCGrande Moravia Ladislava Pavluše&amp\;Tři Barvy – Mária Bikárová\, Eliška Trtíková\, Lucie Bikárová(alt. Leona Klempárová)Ponořte se do kouzelné vánoční atmosféry a nechte se unést melodiemi\, které rozezní srdce i nejchladnější zimní večer.Velmi oblíbený orchestr Grande Moravia spolu s půvabným dívčím triem Tři Barvy přinášejí výběr nejkrásnějších vánočních písníl\, které vám vykouzlí úsměv na tváři a zahřejí duši.Zažijte večer plný radosti\, hudby a společných chvil\, které rozsvítí vaše předvánoční dny.
LOCATION:Velké Meziříčí
END:VEVENT
END:VCALENDAR