BEGIN:VCALENDAR
VERSION:2.0
CALSCALE:GREGORIAN
PRODID:-//MyApp//Calendar 1.0//EN
BEGIN:VEVENT
METHOD:PUBLISH
UID:57218@regionalniportaly.cz
DTSTAMP:20260421T175037Z
DTSTART;VALUE=DATE:20251017
DTEND;VALUE=DATE:20251018
SUMMARY:VENTOLIN / HEY YENDO & RAINER / Velké Meziříčí / Panda
DESCRIPTION:VENTOLIN  který má v Mezu velmi silnou základnu a jeho premiéra u nás v clubu !!!  _______________________________David Doubek alias Ventolin platí za jeden z nejvýraznějších fenoménů české alternativní scény. Kromě množství domácích koncertů v českých klubech a velkých i malých festivalech se každoročně vrací také na Slovensko a do Polska.K živému hraní Ventolin používá staré samplery\, analogové syntezátory a archaické drummachiny. Je milovníkem primitivního zvuku detroitského techna\, italského disca a indického disco stylu zvaného “šrumbabumba” z 80. let 19. stol.\, hraného převážně dlaněmi na pleš._______________________________Hey Yendo je textař\, požitkář a volnomyšlenkář\, který prostřednictvím své tvorby šíří myšlenku Zobej Život. Jeho hudba je barevná stejně jako jeho batikované oblečení._______________________________  Start: 20:00  Panda music club &amp\; bowling_______________________________Těšíme se na Vás !!
LOCATION:Velké Meziříčí
END:VEVENT
END:VCALENDAR