BEGIN:VCALENDAR
VERSION:2.0
CALSCALE:GREGORIAN
PRODID:-//MyApp//Calendar 1.0//EN
BEGIN:VEVENT
METHOD:PUBLISH
UID:57624@regionalniportaly.cz
DTSTAMP:20260421T184144Z
DTSTART;VALUE=DATE:20251011
DTEND;VALUE=DATE:20251012
SUMMARY:Vráťa Hošek + STARTi + Žádný problém - Velké Meziříčí
DESCRIPTION:Vítáme vás do Music clubu PANDA (dříve PANORAMA)Těšit se můžete na:Vráťu Hoška - PÍSNIČKÁŘ ČERNÉHO HUMORUhttps://www.youtube.com/watch?v=2S3dwcVXTxo&amp\;list=RD2S3dwcVXTxo&amp\;start_radio=1STARTi - Punkrocková kapela z okolí VMhttps://www.youtube.com/watch?v=DEn42a15pak&amp\;list=RDDEn42a15pak&amp\;start_radio=1ŽÁDNÝ PROBLÉM - Punkrock z Táborahttps://www.youtube.com/watch?v=OCSd47pDBgI&amp\;list=RDOCSd47pDBgI&amp\;start_radio=1VSTUP OD 20:00HODIN&nbsp\;
LOCATION:Velké Meziříčí
END:VEVENT
END:VCALENDAR