BEGIN:VCALENDAR
VERSION:2.0
CALSCALE:GREGORIAN
PRODID:-//MyApp//Calendar 1.0//EN
BEGIN:VEVENT
METHOD:PUBLISH
UID:61589@regionalniportaly.cz
DTSTAMP:20260421T153815Z
DTSTART;VALUE=DATE:20260131
DTEND;VALUE=DATE:20260201
SUMMARY:Dej panáka a nezlob se  Velká Bíteš
DESCRIPTION:Zveme vás na první ročník turnaje   DEJ PANÁKA A NEZLOBSE.\nZ DŮVODŮ NUTNÝCH PRACÍ SE TURNAJ ODKLÁDÁ NA 08.032026 OD 10.00\n \n 
LOCATION:Velká Bíteš
END:VEVENT
END:VCALENDAR