BEGIN:VCALENDAR
VERSION:2.0
CALSCALE:GREGORIAN
PRODID:-//MyApp//Calendar 1.0//EN
BEGIN:VEVENT
METHOD:PUBLISH
UID:61634@regionalniportaly.cz
DTSTAMP:20260421T183747Z
DTSTART;VALUE=DATE:20260123
DTEND;VALUE=DATE:20260124
SUMMARY:P/\\ST / Velké Meziříčí
DESCRIPTION:P/\\ST/experimentální rap\, elektronika/Alternativní / experimentální rap s nášlapem do tvrdý elektroniky. Pokus o přesah. Divadlo. Show. Pohyb. Hype. Dvě entity\, jedna energie. Když to není nahlas\, tak to není dobrý. Zahřátí prokřehlejch rukou o hořící kapitol. Žádná crew\, ale dvouhlavej palcát.https://www.facebook.com/pastprahahttps://www.instagram.com/past.praha/
LOCATION:Velké Meziříčí
END:VEVENT
END:VCALENDAR