BEGIN:VCALENDAR
VERSION:2.0
CALSCALE:GREGORIAN
PRODID:-//MyApp//Calendar 1.0//EN
BEGIN:VEVENT
METHOD:PUBLISH
UID:61635@regionalniportaly.cz
DTSTAMP:20260421T141200Z
DTSTART;VALUE=DATE:20260227
DTEND;VALUE=DATE:20260228
SUMMARY:Nikola Mucha / Velké Meziříčí
DESCRIPTION:MUCHA/pop-punk/Mucha je brněnská pop-punková kapela kolem písničkářky Nikoly Muchové\, známé svým výstředním projevem a provokativními texty. Ve svých písních se věnuje tématům jako mužská neschopnost\, genderová nespravedlnost nebo život v Brně. Aktuálně kapela vystupuje ve složení Nikola Muchová\, Jakub Kočička a A. m. Almela.www.instagram.com/mucha_kapela/www.facebook.com/Mucha.kapela&nbsp\;LHOTÁRHudecká muzika Lhotár z Velkého Meziříčí hraje folklorní písně z Čech\, Moravy a Slovenska.https://www.instagram.com/hudecka_muzika_lhotar/www.facebook.com/lhotar
LOCATION:Velké Meziříčí
END:VEVENT
END:VCALENDAR