BEGIN:VCALENDAR
VERSION:2.0
CALSCALE:GREGORIAN
PRODID:-//MyApp//Calendar 1.0//EN
BEGIN:VEVENT
METHOD:PUBLISH
UID:7278@regionalniportaly.cz
DTSTAMP:20260422T070052Z
DTSTART;VALUE=DATE:20160814
DTEND;VALUE=DATE:20160815
SUMMARY:Pěvecké kurzy Ireny Sylya
DESCRIPTION:
LOCATION:Velká Bíteš
END:VEVENT
END:VCALENDAR